BEGIN:VCALENDAR
VERSION:2.0
PRODID:icalendar-ruby
CALSCALE:GREGORIAN
METHOD:PUBLISH
BEGIN:VEVENT
DTSTAMP:20260422T232122Z
UID:7-664742@sprucestreetumc.org
DTSTART:20261101T150000Z
DTEND:20261101T153000Z
CLASS:PUBLIC
CREATED:20260422T171509
DESCRIPTION:
LAST-MODIFIED:20260422T171509
LOCATION:Spruce Street UMC
SUMMARY:Sunday School
URL;VALUE=URI:https://www.sprucestreetumc.org/events/sunday-school/2026-11-
 01
END:VEVENT
END:VCALENDAR
