BEGIN:VCALENDAR
VERSION:2.0
PRODID:icalendar-ruby
CALSCALE:GREGORIAN
METHOD:PUBLISH
BEGIN:VEVENT
DTSTAMP:20260422T203635Z
UID:7-664141@sprucestreetumc.org
DTSTART:20261018T140000Z
DTEND:20261018T143000Z
CLASS:PUBLIC
CREATED:20260422T141953
DESCRIPTION:
LAST-MODIFIED:20260422T141953
LOCATION:Spruce Street UMC
SUMMARY:Sunday School
URL;VALUE=URI:https://www.sprucestreetumc.org/events/sunday-school/2026-10-
 18
END:VEVENT
END:VCALENDAR
