BEGIN:VCALENDAR
VERSION:2.0
PRODID:icalendar-ruby
CALSCALE:GREGORIAN
METHOD:PUBLISH
BEGIN:VEVENT
DTSTAMP:20260422T172910Z
UID:7-663541@sprucestreetumc.org
DTSTART:20261004T140000Z
DTEND:20261004T143000Z
CLASS:PUBLIC
CREATED:20260422T112507
DESCRIPTION:
LAST-MODIFIED:20260422T112507
LOCATION:Spruce Street UMC
SUMMARY:Sunday School
URL;VALUE=URI:https://www.sprucestreetumc.org/events/sunday-school/2026-10-
 04
END:VEVENT
END:VCALENDAR
