BEGIN:VCALENDAR
VERSION:2.0
PRODID:icalendar-ruby
CALSCALE:GREGORIAN
METHOD:PUBLISH
BEGIN:VEVENT
DTSTAMP:20260422T144355Z
UID:7-662941@sprucestreetumc.org
DTSTART:20260920T140000Z
DTEND:20260920T143000Z
CLASS:PUBLIC
CREATED:20260422T082957
DESCRIPTION:
LAST-MODIFIED:20260422T082957
LOCATION:Spruce Street UMC
SUMMARY:Sunday School
URL;VALUE=URI:https://www.sprucestreetumc.org/events/sunday-school/2026-09-
 20
END:VEVENT
END:VCALENDAR
