BEGIN:VCALENDAR
VERSION:2.0
PRODID:icalendar-ruby
CALSCALE:GREGORIAN
METHOD:PUBLISH
BEGIN:VEVENT
DTSTAMP:20260422T130544Z
UID:7-662940@sprucestreetumc.org
DTSTART:20260913T140000Z
DTEND:20260913T143000Z
CLASS:PUBLIC
CREATED:20260422T082957
DESCRIPTION:
LAST-MODIFIED:20260422T082957
LOCATION:Spruce Street UMC
SUMMARY:Sunday School
URL;VALUE=URI:https://www.sprucestreetumc.org/events/sunday-school/2026-09-
 13
END:VEVENT
END:VCALENDAR
