BEGIN:VCALENDAR
VERSION:2.0
PRODID:icalendar-ruby
CALSCALE:GREGORIAN
METHOD:PUBLISH
BEGIN:VEVENT
DTSTAMP:20260422T113619Z
UID:7-662341@sprucestreetumc.org
DTSTART:20260906T140000Z
DTEND:20260906T143000Z
CLASS:PUBLIC
CREATED:20260421T212253
DESCRIPTION:
LAST-MODIFIED:20260421T212253
LOCATION:Spruce Street UMC
SUMMARY:Sunday School
URL;VALUE=URI:https://www.sprucestreetumc.org/events/sunday-school/2026-09-
 06
END:VEVENT
END:VCALENDAR
