BEGIN:VCALENDAR
VERSION:2.0
PRODID:icalendar-ruby
CALSCALE:GREGORIAN
METHOD:PUBLISH
BEGIN:VEVENT
DTSTAMP:20260420T081431Z
UID:7-655163@sprucestreetumc.org
DTSTART:20260823T140000Z
DTEND:20260823T143000Z
CLASS:PUBLIC
CREATED:20260420T033315
DESCRIPTION:
LAST-MODIFIED:20260420T033315
LOCATION:Spruce Street UMC
SUMMARY:Sunday School
URL;VALUE=URI:https://www.sprucestreetumc.org/events/sunday-school/2026-08-
 23
END:VEVENT
END:VCALENDAR
