BEGIN:VCALENDAR
VERSION:2.0
PRODID:icalendar-ruby
CALSCALE:GREGORIAN
METHOD:PUBLISH
BEGIN:VEVENT
DTSTAMP:20260425T160732Z
UID:15-674706@sprucestreetumc.org
DTSTART:20261101T154500Z
DTEND:20261101T170000Z
CLASS:PUBLIC
CREATED:20260425T110011
DESCRIPTION:
LAST-MODIFIED:20260425T110011
LOCATION:Spruce Street UMC
SUMMARY:Second Service
URL;VALUE=URI:https://www.sprucestreetumc.org/events/second-service/2026-11
 -01
END:VEVENT
END:VCALENDAR
