BEGIN:VCALENDAR
VERSION:2.0
PRODID:icalendar-ruby
CALSCALE:GREGORIAN
METHOD:PUBLISH
BEGIN:VEVENT
DTSTAMP:20260425T130917Z
UID:15-674102@sprucestreetumc.org
DTSTART:20261018T144500Z
DTEND:20261018T160000Z
CLASS:PUBLIC
CREATED:20260425T081917
DESCRIPTION:
LAST-MODIFIED:20260425T081917
LOCATION:Spruce Street UMC
SUMMARY:Second Service
URL;VALUE=URI:https://www.sprucestreetumc.org/events/second-service/2026-10
 -18
END:VEVENT
END:VCALENDAR
