BEGIN:VCALENDAR
VERSION:2.0
PRODID:icalendar-ruby
CALSCALE:GREGORIAN
METHOD:PUBLISH
BEGIN:VEVENT
DTSTAMP:20260425T114248Z
UID:15-673499@sprucestreetumc.org
DTSTART:20261011T144500Z
DTEND:20261011T160000Z
CLASS:PUBLIC
CREATED:20260424T223503
DESCRIPTION:
LAST-MODIFIED:20260424T223503
LOCATION:Spruce Street UMC
SUMMARY:Second Service
URL;VALUE=URI:https://www.sprucestreetumc.org/events/second-service/2026-10
 -11
END:VEVENT
END:VCALENDAR
