BEGIN:VCALENDAR
VERSION:2.0
PRODID:icalendar-ruby
CALSCALE:GREGORIAN
METHOD:PUBLISH
BEGIN:VEVENT
DTSTAMP:20260421T130818Z
UID:15-659692@sprucestreetumc.org
DTSTART:20260906T144500Z
DTEND:20260906T160000Z
CLASS:PUBLIC
CREATED:20260421T081428
DESCRIPTION:
LAST-MODIFIED:20260421T081428
LOCATION:Spruce Street UMC
SUMMARY:Second Service
URL;VALUE=URI:https://www.sprucestreetumc.org/events/second-service/2026-09
 -06
END:VEVENT
END:VCALENDAR
