BEGIN:VCALENDAR
VERSION:2.0
PRODID:icalendar-ruby
CALSCALE:GREGORIAN
METHOD:PUBLISH
BEGIN:VEVENT
DTSTAMP:20260421T073348Z
UID:15-659090@sprucestreetumc.org
DTSTART:20260809T144500Z
DTEND:20260809T160000Z
CLASS:PUBLIC
CREATED:20260420T210729
DESCRIPTION:
LAST-MODIFIED:20260420T210729
LOCATION:Spruce Street UMC
SUMMARY:Second Service
URL;VALUE=URI:https://www.sprucestreetumc.org/events/second-service/2026-08
 -09
END:VEVENT
END:VCALENDAR
