BEGIN:VCALENDAR
VERSION:2.0
PRODID:icalendar-ruby
CALSCALE:GREGORIAN
METHOD:PUBLISH
BEGIN:VEVENT
DTSTAMP:20260421T042621Z
UID:15-659088@sprucestreetumc.org
DTSTART:20260726T144500Z
DTEND:20260726T160000Z
CLASS:PUBLIC
CREATED:20260420T210729
DESCRIPTION:
LAST-MODIFIED:20260420T210729
LOCATION:Spruce Street UMC
SUMMARY:Second Service
URL;VALUE=URI:https://www.sprucestreetumc.org/events/second-service/2026-07
 -26
END:VEVENT
END:VCALENDAR
