BEGIN:VCALENDAR
VERSION:2.0
PRODID:icalendar-ruby
CALSCALE:GREGORIAN
METHOD:PUBLISH
BEGIN:VEVENT
DTSTAMP:20260420T234835Z
UID:15-658487@sprucestreetumc.org
DTSTART:20260705T144500Z
DTEND:20260705T160000Z
CLASS:PUBLIC
CREATED:20260420T183251
DESCRIPTION:
LAST-MODIFIED:20260420T183251
LOCATION:Spruce Street UMC
SUMMARY:Second Service
URL;VALUE=URI:https://www.sprucestreetumc.org/events/second-service/2026-07
 -05
END:VEVENT
END:VCALENDAR
