BEGIN:VCALENDAR
VERSION:2.0
PRODID:icalendar-ruby
CALSCALE:GREGORIAN
METHOD:PUBLISH
BEGIN:VEVENT
DTSTAMP:20260424T142646Z
UID:9-670311@sprucestreetumc.org
DTSTART:20261014T220000Z
DTEND:20261014T230000Z
CLASS:PUBLIC
CREATED:20260424T083108
DESCRIPTION:
LAST-MODIFIED:20260424T083108
LOCATION:Spruce Street UMC
SUMMARY:Prayer Meeting (Zoom)
URL;VALUE=URI:https://www.sprucestreetumc.org/events/prayer-meeting-zoom--9
 /2026-10-14
ATTACH;FILENAME=Crossed-Hands.jpeg;FMTTYPE=image/jpeg:https://dq5pwpg1q8ru0
 .cloudfront.net/2025/01/25/14/21/04/37b931f0-e64c-41c2-b09a-5bcc3edb50c0/C
 rossed-Hands.jpeg
END:VEVENT
END:VCALENDAR
