BEGIN:VCALENDAR
VERSION:2.0
PRODID:icalendar-ruby
CALSCALE:GREGORIAN
METHOD:PUBLISH
BEGIN:VEVENT
DTSTAMP:20260424T111529Z
UID:9-669707@sprucestreetumc.org
DTSTART:20260930T220000Z
DTEND:20260930T230000Z
CLASS:PUBLIC
CREATED:20260423T230300
DESCRIPTION:
LAST-MODIFIED:20260423T230300
LOCATION:Spruce Street UMC
SUMMARY:Prayer Meeting (Zoom)
URL;VALUE=URI:https://www.sprucestreetumc.org/events/prayer-meeting-zoom--9
 /2026-09-30
ATTACH;FILENAME=Crossed-Hands.jpeg;FMTTYPE=image/jpeg:https://dq5pwpg1q8ru0
 .cloudfront.net/2025/01/25/14/21/04/37b931f0-e64c-41c2-b09a-5bcc3edb50c0/C
 rossed-Hands.jpeg
END:VEVENT
END:VCALENDAR
