BEGIN:VCALENDAR
VERSION:2.0
PRODID:icalendar-ruby
CALSCALE:GREGORIAN
METHOD:PUBLISH
BEGIN:VEVENT
DTSTAMP:20260422T095837Z
UID:260-610012@sprucestreetumc.org
DTSTART:20260419T213000Z
DTEND:20260419T223000Z
CLASS:PUBLIC
CREATED:20260407T092722
DESCRIPTION:
LAST-MODIFIED:20260407T092722
LOCATION:
SUMMARY:Messy Church
URL;VALUE=URI:https://www.sprucestreetumc.org/events/messy-church--260/2026
 -04-19
END:VEVENT
END:VCALENDAR
