BEGIN:VCALENDAR
VERSION:2.0
PRODID:icalendar-ruby
CALSCALE:GREGORIAN
METHOD:PUBLISH
BEGIN:VEVENT
DTSTAMP:20260422T223908Z
UID:6-664649@sprucestreetumc.org
DTSTART:20261025T123000Z
DTEND:20261025T133000Z
CLASS:PUBLIC
CREATED:20260422T171509
DESCRIPTION:
LAST-MODIFIED:20260422T171509
LOCATION:Spruce Street UMC
SUMMARY:First Service
URL;VALUE=URI:https://www.sprucestreetumc.org/events/first-service/2026-10-
 25
ATTACH;FILENAME=All-Saints-2023.jpg;FMTTYPE=image/jpeg:https://dq5pwpg1q8ru
 0.cloudfront.net/2025/01/25/14/19/37/b859628a-64b8-46c9-9371-7b9df00c7d87/
 All-Saints-2023.jpg
END:VEVENT
END:VCALENDAR
