BEGIN:VCALENDAR
VERSION:2.0
PRODID:icalendar-ruby
CALSCALE:GREGORIAN
METHOD:PUBLISH
BEGIN:VEVENT
DTSTAMP:20260423T174750Z
UID:22-667556@sprucestreetumc.org
DTSTART:20261022T230000Z
DTEND:20261023T000000Z
CLASS:PUBLIC
CREATED:20260423T112347
DESCRIPTION:Choir Practice
LAST-MODIFIED:20260423T112347
LOCATION:
SUMMARY:Choir Practice
URL;VALUE=URI:https://www.sprucestreetumc.org/events/choir-practice--22/202
 6-10-22
END:VEVENT
END:VCALENDAR
