BEGIN:VCALENDAR
VERSION:2.0
PRODID:icalendar-ruby
CALSCALE:GREGORIAN
METHOD:PUBLISH
BEGIN:VEVENT
DTSTAMP:20260423T144915Z
UID:22-666953@sprucestreetumc.org
DTSTART:20261008T230000Z
DTEND:20261009T000000Z
CLASS:PUBLIC
CREATED:20260423T083116
DESCRIPTION:Choir Practice
LAST-MODIFIED:20260423T083116
LOCATION:
SUMMARY:Choir Practice
URL;VALUE=URI:https://www.sprucestreetumc.org/events/choir-practice--22/202
 6-10-08
END:VEVENT
END:VCALENDAR
