BEGIN:VCALENDAR
VERSION:2.0
PRODID:icalendar-ruby
CALSCALE:GREGORIAN
METHOD:PUBLISH
BEGIN:VEVENT
DTSTAMP:20260423T101953Z
UID:22-666350@sprucestreetumc.org
DTSTART:20260917T230000Z
DTEND:20260918T000000Z
CLASS:PUBLIC
CREATED:20260422T230101
DESCRIPTION:Choir Practice
LAST-MODIFIED:20260422T230101
LOCATION:
SUMMARY:Choir Practice
URL;VALUE=URI:https://www.sprucestreetumc.org/events/choir-practice--22/202
 6-09-17
END:VEVENT
END:VCALENDAR
