BEGIN:VCALENDAR
VERSION:2.0
PRODID:icalendar-ruby
CALSCALE:GREGORIAN
METHOD:PUBLISH
BEGIN:VEVENT
DTSTAMP:20260422T100118Z
UID:10-662589@sprucestreetumc.org
DTSTART:20260820T140000Z
DTEND:20260820T150000Z
CLASS:PUBLIC
CREATED:20260421T212253
DESCRIPTION:
LAST-MODIFIED:20260421T212253
LOCATION:Spruce Street UMC
SUMMARY:Chair Yoga
URL;VALUE=URI:https://www.sprucestreetumc.org/events/chair-yoga/2026-08-20
ATTACH;FILENAME=Chair-Yoga.jpg;FMTTYPE=image/jpeg:https://dq5pwpg1q8ru0.clo
 udfront.net/2025/01/25/14/22/01/82393596-8f1a-49a4-b2ed-cdb8554bf9e0/Chair
 -Yoga.jpg
END:VEVENT
END:VCALENDAR
